BEGIN:VCALENDAR
VERSION:2.0
PRODID:-//SVP Sektion Bäretswil //NONSGML Events //EN
CALSCALE:GREGORIAN
X-WR-CALNAME:SVP Sektion Bäretswil
BEGIN:VEVENT
CREATED:20251111T103743Z
UID:1191
DTEND:20261110T000000
DTSTART:20261110T000000
DTSTAMP:20260421T090414Z
LOCATION:Bäretswil
DESCRIPTION:
SUMMARY:Bezirksvorstand SVP Bez. Hinwil
ORGANIZER:
URL;VALUE=URI:https://www.svp-baeretswil.ch/termine/bezirksvorstand-svp-bez-hinwil-4/
TRANSP:OPAQUE
END:VEVENT
END:VCALENDAR
