BEGIN:VCALENDAR
VERSION:2.0
PRODID:-//SVP Sektion Bäretswil //NONSGML Events //EN
CALSCALE:GREGORIAN
X-WR-CALNAME:SVP Sektion Bäretswil
BEGIN:VEVENT
CREATED:20251111T103443Z
UID:1194
DTEND:20260927T000000
DTSTART:20260927T000000
DTSTAMP:20260421T091207Z
LOCATION:
DESCRIPTION:
SUMMARY:Eidg. und Kant. Abstimmungen
ORGANIZER:
URL;VALUE=URI:https://www.svp-baeretswil.ch/termine/eidg-und-kant-abstimmungen-8/
TRANSP:OPAQUE
END:VEVENT
END:VCALENDAR
