BEGIN:VCALENDAR
VERSION:2.0
PRODID:-//SVP Sektion Bäretswil //NONSGML Events //EN
CALSCALE:GREGORIAN
X-WR-CALNAME:SVP Sektion Bäretswil
BEGIN:VEVENT
CREATED:20251111T102730Z
UID:1201
DTEND:20260824T000000
DTSTART:20260824T000000
DTSTAMP:20260421T090414Z
LOCATION:Grüningen
DESCRIPTION:
SUMMARY:Bezirksvorstand SVP Bez. Hinwil
ORGANIZER:
URL;VALUE=URI:https://www.svp-baeretswil.ch/termine/bezirksvorstand-svp-bez-hinwil-5/
TRANSP:OPAQUE
END:VEVENT
END:VCALENDAR
