BEGIN:VCALENDAR
VERSION:2.0
PRODID:-//SVP Sektion Bäretswil //NONSGML Events //EN
CALSCALE:GREGORIAN
X-WR-CALNAME:SVP Sektion Bäretswil
BEGIN:VEVENT
CREATED:20260111T125755Z
UID:1337
DTEND:20260327T200000
DTSTART:20260327T193000
DTSTAMP:20260421T090005Z
LOCATION:Schützenhaus Bäretswil
DESCRIPTION:
SUMMARY:GV SVP Bäretswil
ORGANIZER:
URL;VALUE=URI:https://www.svp-baeretswil.ch/termine/gv-svp-baeretswil/
TRANSP:OPAQUE
END:VEVENT
END:VCALENDAR
